BEGIN:VCALENDAR
VERSION:2.0
PRODID:-//iRAP - ECPv6.15.19//NONSGML v1.0//EN
CALSCALE:GREGORIAN
METHOD:PUBLISH
X-ORIGINAL-URL:https://irap.org/nl/
X-WR-CALDESC:Evenementen voor iRAP
REFRESH-INTERVAL;VALUE=DURATION:PT1H
X-Robots-Tag:noindex
X-PUBLISHED-TTL:PT1H
BEGIN:VTIMEZONE
TZID:Europe/London
BEGIN:DAYLIGHT
TZOFFSETFROM:+0000
TZOFFSETTO:+0100
TZNAME:BST
DTSTART:20250330T010000
END:DAYLIGHT
BEGIN:STANDARD
TZOFFSETFROM:+0100
TZOFFSETTO:+0000
TZNAME:GMT
DTSTART:20251026T010000
END:STANDARD
BEGIN:DAYLIGHT
TZOFFSETFROM:+0000
TZOFFSETTO:+0100
TZNAME:BST
DTSTART:20260329T010000
END:DAYLIGHT
BEGIN:STANDARD
TZOFFSETFROM:+0100
TZOFFSETTO:+0000
TZNAME:GMT
DTSTART:20261025T010000
END:STANDARD
BEGIN:DAYLIGHT
TZOFFSETFROM:+0000
TZOFFSETTO:+0100
TZNAME:BST
DTSTART:20270328T010000
END:DAYLIGHT
BEGIN:STANDARD
TZOFFSETFROM:+0100
TZOFFSETTO:+0000
TZNAME:GMT
DTSTART:20271031T010000
END:STANDARD
END:VTIMEZONE
BEGIN:VEVENT
DTSTART;VALUE=DATE:20260520
DTEND;VALUE=DATE:20260521
DTSTAMP:20260424T055233
CREATED:20260423T223332Z
LAST-MODIFIED:20260423T223520Z
UID:86129-1779235200-1779321599@irap.org
SUMMARY:2026 iRAP Innovation Workshop
DESCRIPTION:Join us in May for iRAP’s 2026 Innovation Workshop on future-ready roads\, an unmissable event being held in partnership with TRA2026 in Budapest. \nThe iRAP Innovation Workshop will be held on 20 May during Transport Research Arena (TRA). TRA is Europe’s biggest transport conference attracting over 3\,000 participants and 100 exhibitors from across the world drawn from industry\, government\, transport operators\, financing institutions\, academia and civil society. With the theme “ReGeneration in Transport”\, TRA2026 will be held from 18-21 May and explore challenges facing the global transport sector\, new solutions and business models\, and latest research and developments in mobility and transport. \niRAP’s one-day Innovation Workshop is set to be a high-energy\, thought-provoking forum drawing road safety leaders and experts working at the cutting edge to create “Future Ready Roads for Safe\, Sustainable Mobility”. \n  \nAbout the Workshop\nInnovation and collaboration will be key to promoting safe\, inclusive\, green and efficient transportation systems in the UN Decade of Sustainable Transport 2026-2035. Momentum must also continue to drive progress in the Decade of Action for Road Safety 2021-2030 which aims to halve global road deaths and injuries by 2030. \nWorking together with global leaders who are pioneering the future of transport and mobility\, iRAP partners are driving evidence-based technologies\, policy\, financing and systems for a world free of high-risk roads. Transformation in iRAP methodologies and tools is leveraging partners’ efforts to create safer streets\, roads and highways which prioritise vulnerable road users. AI-powered solutions like AiRAP are revolutionizing road assessment\, risk mapping\, and predictive analytics for smarter\, data-driven decisions\, performance tracking\, and asset management on scale. Harmonised safety prediction tools are ensuring gender\, age and abilities are provided for in future mobility\, while living labs are testing next-gen mobility solutions in real-time for climate-neutral cities. By integrating and dashboarding diverse datasets\, raw data is being transformed into powerful\, actionable intelligence. And empowering our global community\, capacity is being built in countries thanks to innovative programmes which are unlocking new pathways for engagement and cross-border advancement. By integrating cutting-edge technology\, expert insights and global learnings\, world-leading solutions are empowering safer\, more resilient roads in the face of rapid global urbanisation. \nJoin us for iRAP’s 2026 Innovation Workshop\, mobilising the world’s best minds to support achievement of UN Targets 3 and 4 which include ensuring all new roads are built to a 3-star or better standard for all road users (Target 3)\, and more than 75% of travel is on the equivalent of 3-star or better roads for all road users by 2030 (Target 4). \n  \n \nProgramme\n			\n				Download the Latest Programme\n			\n				\n				\n				\n				\n				Speakers\n			\n			\n				\n				\n				\n				\n			\n				\n				\n				\n				\n				\n				\n				\n				\n				\n				\n				\n			\n				\n				\n				\n				\n				Matthieu LevivierDirectorTransoft Solutions \n			\n			\n				\n				\n				\n				\n				\n				\n				\n				\n				\n				\n			\n				\n				\n				\n				\n				Stephanie LeonardGlobal Head of Government and Regulatory Affairs\, TomTom\, and President\, Traveller Information Services Association (TISA) \n			\n			\n				\n				\n				\n				\n				\n				\n				\n				\n				\n				\n			\n				\n				\n				\n				\n				Vladimir VorotovicChief Innovation OfficerERTICO  \n			\n			\n				\n				\n				\n				\n				\n				\n				\n				\n				\n				\n			\n				\n				\n				\n				\n				Athina TympakianakiPrincipal ResearcherAIMSUN  \n			\n			\n				\n				\n				\n				\n			\n				\n				\n				\n				\n				\n				\n				\n				\n				\n				\n				\n			\n				\n				\n				\n				\n				Stefano AmmiratiDirector of Road Safety and Global AdvocacyFIA \n			\n			\n				\n				\n				\n				\n				\n				\n				\n				\n				\n				\n			\n				\n				\n				\n				\n				Karen VancluysenSecretary GeneralPOLIS  \n			\n			\n				\n				\n				\n				\n				\n				\n				\n				\n				\n				\n			\n				\n				\n				\n				\n				Rob McInerney AOChief of Future ImpactiRAP \n			\n			\n				\n				\n				\n				\n				\n				\n				\n				\n				\n				\n			\n				\n				\n				\n				\n				Ricardo LoboGlobal Innovation Manager Aleatica \n			\n			\n				\n				\n				\n				\n			\n				\n				\n				\n				\n				\n				\n				\n				\n				\n				\n				\n			\n				\n				\n				\n				\n				Richard OwenCEOAgilysis \n			\n			\n				\n				\n				\n				\n				\n				\n				\n				\n				\n				\n			\n				\n				\n				\n				\n				Rafaela MachadoFIA Foundation \n			\n			\n				\n				\n				\n				\n				\n				\n				\n				\n				\n				\n			\n				\n				\n				\n				\n				Nuno CostaSafety DirectorFIA  \n			\n			\n				\n				\n				\n				\n				\n				\n				\n				\n				\n				\n			\n				\n				\n				\n				\n				Katia PagleSenior Researcher and CAMBER Project Manager\, ICCS National Technical University of Athens (NTUA) \n			\n			\n				\n				\n				\n				\n			\n				\n				\n				\n				\n				\n				\n				\n				\n				\n				\n				\n			\n				\n				\n				\n				\n				James BradfordGlobal Technical DirectoriRAP \n			\n			\n				\n				\n				\n				\n				\n				\n				\n				\n				\n				\n			\n				\n				\n				\n				\n				Monica OlyslagersGlobal Innovation Manager and Safe Cities SpecialistiRAP \n			\n			\n				\n				\n				\n				\n				\n				\n				\n				\n				\n				\n			\n				\n				\n				\n				\n				Bruce HamiltonExecutive DirectorRoadway Safety Foundation \n			\n			\n				\n				\n				\n				\n				\n				\n				\n				\n				\n				\n			\n				\n				\n				\n				\n				Steve PhillipsSecretary General\, Conference of European Directors of Roads (CEDR) \n			\n			\n				\n				\n				\n				\n			\n				\n				\n				\n				\n				\n				\n				\n				\n				\n				\n				\n			\n				\n				\n				\n				\n				Marko SevrovicVice Dean\, Faculty of Transport and Traffic Sciences\, University of Zagreb (FPZ)Director\, European Institute of Road Assessment (EIRA) \n			\n			\n				\n				\n				\n				\n				\n				\n				\n				\n				\n				\n			\n				\n				\n				\n				\n				Olivera RoziSafer Journeys Lead for EuropeiRAP \n			\n			\n				\n				\n				\n				\n				\n				\n				\n				\n				\n				\n			\n				\n				\n				\n				\n				Marc FigulsManaging PartnerFactual Consulting \n			\n			\n				\n				\n				\n				\n				\n				\n				\n				\n				\n				\n			\n				\n				\n				\n				\n				Judy WilliamsGlobal Programme & Communications ManageriRAP \n			\n			\n				\n				\n				\n				\n			\n				\n				\n				\n				\n				\n				\n				\n				\n				\n				\n				\n			\n				\n				\n				\n				\n				Young-Jun MoonProfessor Invited and ISO TMB and ISO/TC241 Chair\, Korea Advanced Institute of Science and Technology (KAIST)  \n			\n			\n				\n				\n				\n				\n				\n				\n				\n				\n				\n				\n			\n				\n				\n				\n				\n				Minh VoSustainable Mobility CoordinatoriRAP \n			\n			\n				\n				\n				\n				\n				\n			\n				\n				\n				\n				\n				\n			\n				\n				\n				\n				\n			\n				\n				\n				\n				\n				\n				\n				\n				\n				\n				\n				Register\niRAP’s 2026 Innovation Workshop is free to attend for TRA2026 delegates. Participants can join for the day or benefit from TRA’s four-day programme of plenary and scientific sessions\, technical tours and vast networking opportunities. \nThe Workshop promises to be a dynamic\, immersive experience for practitioners and decision-makers keen to hear the latest on future ready roads for safe and sustainable mobility! Seating is limited so don’t delay. \n			\n				Register to attend the 2026 Innovation Workshop\n			\n				For more information on TRA2026\n			\n			\n				\n				\n				\n				\n			\n				\n				\n				\n				\n				\n				\n				\n				\n				\n				\n				Come Visit our Booth in the TRA Exhibition\niRAP and the European Institute of Road Assessment (EIRA) will have a booth in the TRA Exhibition. Come see our team at booth B21 next to the European Commission and hear more about iRAP and EIRA\, our projects\, and  research and tools helping to drive innovation for Future-Ready Roads for Safe\, Sustainable Mobility. \nAmong others\, we’ll be sharing these European partnerships\, funded by the European Commission and UKRI\, shaping research innovation in the region and world-wide: \n			\n			\n				\n				\n				\n				\n			\n				\n				\n				\n				\n				\n				\n				\n				\n				\n				\n				\n			\n				\n				\n				\n				\n				Predictive approaches for safer urban environments (PHOEBE) \n			\n			\n				\n				\n				\n				\n				\n				\n				\n				\n				\n				11 partners | 3 Pilot Cities \nAthens\, Valencia & West Midlands \n\nFocuses on vulnerable road user behaviour\, exposure\, and risk\, particularly for active mobility and e-scooter users\nUses predictive and data-driven approaches to prevent serious injuries and fatalities\nSupports safer street design and evidence-based urban safety policies\n\n			\n			\n				\n				\n				\n				\n			\n				\n				\n				\n				\n				\n				\n				\n				\n				\n				\n				\n			\n				\n				\n				\n				\n				AI for Vision Zero in Road Safety Industrial Doctorates Network \n			\n			\n				\n				\n				\n				\n				\n				\n				\n				\n				\n				23 Partners | Global Impact \n\nDemonstrates how AI can be applied to support proactive safety decisions\nFocuses on ethical\, fair\, and human-centred AI for road safety\nBuilds a new generation of AI and road safety experts and long-term capacity through training and research networks\n\n			\n			\n				\n				\n				\n				\n			\n				\n				\n				\n				\n				\n				\n				\n				\n				\n				\n				\n			\n				\n				\n				\n				\n				Connected and Adaptive Maintenance for Safer Urban and Secondary Roads \n			\n			\n				\n				\n				\n				\n				\n				\n				\n				\n				\n				14 Partners | 5 Pilot Cities \nCascais\, Trikala\, North Holland\, Croatia & Spain \n\nIntegrates road safety into routine maintenance and asset management\nUses new-generation data\, monitoring\, and digital tools to assess safety performance and identify risks early\nFocuses on scalable\, low-cost safety interventions across networks\, demonstrating how they can deliver measurable safety benefits\n\n			\n			\n				\n				\n				\n				\n			\n				\n				\n				\n				\n				\n				\n				\n				\n				\n				\n				\n			\n				\n				\n				\n				\n				Designing sustainable urban mobility towards climate-neutral cities \n			\n			\n				\n				\n				\n				\n				\n				\n				\n				\n				\n				38 Partners | 12 Pilot cities \nLighthouse Cities: Helsinki\, Copenhagen\, Milan\, Issy-les-Moulineaux\, Zaragoza & TrikalaFollower Cities: Lund\, Liberec\, Velenje\, Split Krusevac & Ioannina) \n\nUses urban living labs to test real-world mobility solutions\nIntegrates safety\, sustainability\, accessibility\, and efficiency\nWorks with cities using real-world data and real-time models\nTreats safety as a core outcome alongside sustainability and accessibility\n\n			\n			\n				\n				\n				\n				\n			\n				\n				\n				\n				\n				\n				\n				\n				\n				\n				\n				See you in May at TRA!
URL:https://irap.org/nl/regional_events/2026-irap-innovation-workshop/
CATEGORIES:Workshop/Training
ATTACH;FMTTYPE=image/png:https://irap.org/wp-content/uploads/2025/12/2026-Innovation-Workshop-dateclaimer-900.png
END:VEVENT
END:VCALENDAR